BEGIN:VCALENDAR
VERSION:2.0
PRODID:-//eventon.com NONSGML v1.0//EN
CALSCALE:GREGORIAN
METHOD:PUBLISH
BEGIN:VEVENT
UID:69e739b685d52
DTSTAMP:20260421T084750Z
DTSTART:20250224T123000Z
DTEND:20250224T123000Z
LOCATION:
SUMMARY:3 marzo 2025 avvio del Campionato intercircoli
DESCRIPTION:partecipate numerosi alla nuova edizione del Campionato interci
 rcoli. Ecco gli appuntamenti: 7 Marzo Briefing\,  8 Marzo I regata\,  9 mar
 zo II regata\,  22 marzo III regata\,  23 marzo IV regata\,  5 aprile V reg
 ata\,  6 aprile Eventuale recupero e Premiazione Per iscrizioni e informazi
 oni https://www.intercircoli.org/ Bando di regata Iscrizione ORC[..]\nhttps
 ://www.assonauticagenova.it/events/3-marzo-2025-avvio-del-campionato-interc
 ircoli/
URL:https://www.assonauticagenova.it/events/3-marzo-2025-avvio-del-campionato-intercircoli/
END:VEVENT
END:VCALENDAR